BEGIN:VCALENDAR
VERSION:2.0
PRODID:DPCALENDAR
CALSCALE:GREGORIAN
BEGIN:VTIMEZONE
TZID:America/New_York
X-MICROSOFT-CDO-TZID:10
BEGIN:STANDARD
DTSTART:20251102T060000
TZOFFSETFROM:-0400
TZOFFSETTO:-0500
TZNAME:EST
END:STANDARD
BEGIN:STANDARD
DTSTART:20261101T060000
TZOFFSETFROM:-0400
TZOFFSETTO:-0500
TZNAME:EST
END:STANDARD
BEGIN:DAYLIGHT
DTSTART:20260308T070000
TZOFFSETFROM:-0500
TZOFFSETTO:-0400
TZNAME:EDT
END:DAYLIGHT
END:VTIMEZONE
X-WR-TIMEZONE:America/New_York
BEGIN:VEVENT
DTSTART;TZID=America/New_York:20241225T120000
DTEND;TZID=America/New_York:20241225T130000
UID:3D0E7200-2524-4088-A088-98D062CF8AF3
SUMMARY:Test Event
CREATED:20241220T172145Z
DTSTAMP:20241220T172145Z
URL:https://daniel.govsites.net/resident/calendar/test-event
DESCRIPTION:This is a test event
X-ALT-DESC;FMTTYPE=text/html:<p>This is a test event</p>
LAST-MODIFIED:20241220T172145Z
SEQUENCE:0
X-ACCESS:1
X-HITS:17
X-COLOR:763f96
X-SHOW-END-TIME:1
END:VEVENT
BEGIN:VEVENT
DTSTART;TZID=America/New_York:20250109T193000
DTEND;TZID=America/New_York:20250109T203000
UID:18A7DDF4-3732-4902-84C7-9A8776B4CED2
SUMMARY:Delaware Township Board of Adjustment - January Edition
CREATED:20250401T205958Z
DTSTAMP:20250401T205958Z
URL:https://daniel.govsites.net/resident/calendar/delaware-township-board-of-adjustment-january-edition
LAST-MODIFIED:20250401T205958Z
SEQUENCE:0
X-ACCESS:1
X-HITS:6
X-COLOR:763f96
X-SHOW-END-TIME:1
END:VEVENT
BEGIN:VEVENT
DTSTART;TZID=America/New_York:20250213T193000
DTEND;TZID=America/New_York:20250213T203000
UID:334180BE-446A-47D6-931C-7B997E5D1EAB
SUMMARY:Delaware Township Board of Adjustment - February Edition
CREATED:20250401T210042Z
DTSTAMP:20250401T210042Z
URL:https://daniel.govsites.net/resident/calendar/delaware-township-board-of-adjustment-february-edition
LAST-MODIFIED:20250401T210042Z
SEQUENCE:0
X-ACCESS:1
X-HITS:7
X-COLOR:763f96
X-SHOW-END-TIME:0
END:VEVENT
BEGIN:VEVENT
DTSTART;TZID=America/New_York:20250313T193000
DTEND;TZID=America/New_York:20250313T203000
UID:1F51E11C-3295-4937-98F1-97AE3FB0DBD3
SUMMARY:Delaware Township Board of Adjustment - March Edition
CREATED:20250401T210218Z
DTSTAMP:20250401T210218Z
URL:https://daniel.govsites.net/resident/calendar/delaware-township-board-of-adjustment-march-edition
LAST-MODIFIED:20250401T210218Z
SEQUENCE:0
X-ACCESS:1
X-HITS:6
X-COLOR:763f96
X-SHOW-END-TIME:0
END:VEVENT
END:VCALENDAR