BEGIN:VCALENDAR
VERSION:2.0
PRODID:DPCALENDAR
CALSCALE:GREGORIAN
BEGIN:VTIMEZONE
TZID:America/New_York
X-MICROSOFT-CDO-TZID:10
BEGIN:STANDARD
DTSTART:20251102T060000
TZOFFSETFROM:-0400
TZOFFSETTO:-0500
TZNAME:EST
END:STANDARD
BEGIN:STANDARD
DTSTART:20261101T060000
TZOFFSETFROM:-0400
TZOFFSETTO:-0500
TZNAME:EST
END:STANDARD
BEGIN:DAYLIGHT
DTSTART:20260308T070000
TZOFFSETFROM:-0500
TZOFFSETTO:-0400
TZNAME:EDT
END:DAYLIGHT
END:VTIMEZONE
X-WR-TIMEZONE:America/New_York
BEGIN:VEVENT
DTSTART;VALUE=DATE:20190222
DTEND;VALUE=DATE:20190223
RRULE:FREQ=MONTHLY;BYDAY=1MO;INTERVAL=1;UNTIL=20190420T235900Z
EXDATE:20190304,20190401
UID:CFD40738-C823-40E3-8B10-605979E3EAF1
SUMMARY:Zoning Meeting
CREATED:20190220T223743Z
DTSTAMP:20190220T223743Z
URL:https://daniel.govsites.net/resident/calendar/zoning-meeting
LAST-MODIFIED:20190220T223826Z
SEQUENCE:43
X-ACCESS:1
X-HITS:10
X-COLOR:3366CC
X-SHOW-END-TIME:0
END:VEVENT
BEGIN:VEVENT
DTSTART;TZID=America/New_York:20191024T080000
DTEND;TZID=America/New_York:20191024T090000
UID:25516A4B-D109-4912-8AFF-82BF9FACAA25
SUMMARY:New Event
CREATED:20191023T191514Z
DTSTAMP:20191023T191514Z
URL:https://daniel.govsites.net/resident/calendar/new-event
DESCRIPTION:More Details\N \NSample Document
X-ALT-DESC;FMTTYPE=text/html:<p>More Details</p><p> </p><p><a class="doclink" href="index.php?option=com_docman&amp;view=document&amp;alias=2-sample-document&amp;category_slug=clerk&amp;Itemid=1014" target="_blank" rel="noopener noreferrer">Sample Document</a></p>
LAST-MODIFIED:20191023T191547Z
SEQUENCE:33
X-ACCESS:1
X-HITS:7
X-COLOR:3264d1
X-SHOW-END-TIME:1
END:VEVENT
BEGIN:VEVENT
DTSTART;TZID=America/New_York:20191122T080000
DTEND;TZID=America/New_York:20191122T090000
UID:69DCF65F-2A78-42D0-817E-E970C8ECE2A5
SUMMARY:Rec Event
CREATED:20191119T173935Z
DTSTAMP:20191119T173935Z
URL:https://daniel.govsites.net/resident/calendar/rec-event
X-ACCESS:1
X-HITS:9
X-COLOR:3366CC
X-SHOW-END-TIME:1
END:VEVENT
BEGIN:VEVENT
DTSTART;TZID=America/New_York:20191225T080000
DTEND;TZID=America/New_York:20191225T090000
UID:0E390CEB-6CE4-4A65-98FA-8EC3D25A9154
SUMMARY:Demo Meeting MC
CREATED:20191224T150915Z
DTSTAMP:20191224T150915Z
URL:https://daniel.govsites.net/resident/calendar/demo-meeting-mc
X-ACCESS:1
X-HITS:5
X-COLOR:3366CC
X-SHOW-END-TIME:1
END:VEVENT
BEGIN:VEVENT
DTSTART;TZID=America/New_York:20200311T080000
DTEND;TZID=America/New_York:20200311T090000
UID:A364EF09-A3C9-4B09-8F77-C661ABFC723E
SUMMARY:Test planning
CREATED:20200309T135601Z
DTSTAMP:20200309T135601Z
URL:https://daniel.govsites.net/resident/calendar/test-planning
X-ACCESS:1
X-HITS:2
X-COLOR:3264d1
X-SHOW-END-TIME:1
END:VEVENT
BEGIN:VEVENT
DTSTART;TZID=America/New_York:20240412T130000
DTEND;TZID=America/New_York:20240412T140000
RRULE:FREQ=MONTHLY;BYDAY=2TU,2FR,4TU,4FR;INTERVAL=1;UNTIL=20240612T235900Z
UID:2D5BB51F-9DE5-4339-B53F-3CBB6403C703
SUMMARY:Sample Event
CREATED:20240412T175322Z
DTSTAMP:20240412T175322Z
URL:https://daniel.govsites.net/resident/calendar/sample-event
X-ACCESS:1
X-HITS:5
X-COLOR:3366CC
X-SHOW-END-TIME:1
END:VEVENT
BEGIN:VEVENT
DTSTART;TZID=America/New_York:20241221T120000
DTEND;TZID=America/New_York:20241221T130000
UID:A53E9F5A-4483-4F96-A726-BABBC0DDF221
SUMMARY:Test meeting
CREATED:20241220T172128Z
DTSTAMP:20241220T172128Z
URL:https://daniel.govsites.net/resident/calendar/test-meeting
DESCRIPTION:This is a test meeting
X-ALT-DESC;FMTTYPE=text/html:<p>This is a test meeting</p>
LAST-MODIFIED:20241220T172128Z
SEQUENCE:0
X-ACCESS:1
X-HITS:5
X-COLOR:3366CC
X-SHOW-END-TIME:1
END:VEVENT
BEGIN:VEVENT
DTSTART;TZID=America/New_York:20250428T190000
DTEND;TZID=America/New_York:20250428T210000
UID:6CDC3825-D4FA-4452-AD15-EC8F43607B9A
SUMMARY:Council Meeting Room
CREATED:20250428T182016Z
DTSTAMP:20250428T182016Z
URL:https://daniel.govsites.net/resident/calendar/council-meeting-room
DESCRIPTION:04-28-2025 Council Meeting Agenda\N[ Some text from the original event description ]
X-ALT-DESC;FMTTYPE=text/html:<p><a class="doclink-insert" href="index.php?option=com_docman&amp;view=document&amp;alias=21-04-28-2025-council-meeting-agenda&amp;category_slug=2025-agendas-mayor-council&amp;Itemid=1999" target="_blank">04-28-2025 Council Meeting Agenda</a></p><p>[ Some text from the original event description ]</p>
LAST-MODIFIED:20250505T181049Z
SEQUENCE:604233
X-ACCESS:1
X-HITS:11
X-COLOR:3366CC
X-SHOW-END-TIME:0
END:VEVENT
BEGIN:VEVENT
DTSTART;TZID=America/New_York:20250501T180000
DTEND;TZID=America/New_York:20250501T200000
UID:0CAE2B86-C93B-46F1-AAEC-66D5638159BB
SUMMARY:Mayor & Council Work Session
CREATED:20250428T194223Z
DTSTAMP:20250428T194223Z
URL:https://daniel.govsites.net/resident/calendar/mayor-council-work-session
DESCRIPTION:05-01-2025 Mayor & Council Meeting Agenda\N[ text from the original event schedule ]
X-ALT-DESC;FMTTYPE=text/html:<p><a class="doclink-insert" href="index.php?option=com_docman&amp;view=document&amp;alias=23-05-01-2025-mayor-council-meeting-agenda&amp;category_slug=2025-agendas-mayor-council&amp;Itemid=1014" target="_blank">05-01-2025 Mayor &amp; Council Meeting Agenda</a></p><p>[ text from the original event schedule ]</p>
LAST-MODIFIED:20250505T182010Z
SEQUENCE:599867
X-ACCESS:1
X-HITS:7
X-COLOR:3366CC
X-SHOW-END-TIME:0
END:VEVENT
BEGIN:VEVENT
DTSTART;TZID=America/New_York:20250506T190000
DTEND;TZID=America/New_York:20250506T210000
RRULE:FREQ=MONTHLY;BYDAY=2TU;INTERVAL=1;UNTIL=20251231T235900Z
UID:248E5E7B-9B21-4063-8E45-34767DB946F3
SUMMARY:Environmental Commission Meeting
CREATED:20250422T160900Z
DTSTAMP:20250422T160900Z
URL:https://daniel.govsites.net/resident/calendar/environmental-commission-meeting
LAST-MODIFIED:20250422T160900Z
SEQUENCE:0
X-ACCESS:1
X-HITS:5
X-COLOR:3366CC
X-SHOW-END-TIME:0
END:VEVENT
BEGIN:VEVENT
DTSTART;TZID=America/New_York:20250506T220000
DTEND;TZID=America/New_York:20250506T233000
RRULE:FREQ=WEEKLY;BYDAY=MO;INTERVAL=1;COUNT=100;UNTIL=20250706T235900Z
EXDATE:20250513T020000Z,20250715T020000Z,20250722T020000Z,20250729T020000Z,20250805T020000Z,20250812T020000Z,20250819T020000Z,20250826T020000Z,20250902T020000Z,20250909T020000Z,20250916T020000Z,20250923T020000Z,20250930T020000Z,20251007T020000Z,20251014T020000Z,20251021T020000Z,20251028T020000Z,20251104T030000Z,20251111T030000Z,20251118T030000Z,20251125T030000Z,20251202T030000Z,20251209T030000Z,20251216T030000Z,20251223T030000Z,20251230T030000Z,20260106T030000Z,20260113T030000Z,20260120T030000Z,20260127T030000Z,20260203T030000Z,20260210T030000Z,20260217T030000Z,20260224T030000Z,20260303T030000Z,20260310T020000Z,20260317T020000Z,20260324T020000Z,20260331T020000Z,20260407T020000Z,20260414T020000Z,20260421T020000Z,20260428T020000Z,20260505T020000Z,20260512T020000Z,20260519T020000Z,20260526T020000Z,20260602T020000Z,20260609T020000Z,20260616T020000Z,20260623T020000Z,20260630T020000Z,20260707T020000Z,20260714T020000Z,20260721T020000Z,20260728T020000Z,20260804T020000Z,20260811T020000Z,20260818T020000Z,20260825T020000Z,20260901T020000Z,20260908T020000Z,20260915T020000Z,20260922T020000Z,20260929T020000Z,20261006T020000Z,20261013T020000Z,20261020T020000Z,20261027T020000Z,20261103T030000Z,20261110T030000Z,20261117T030000Z,20261124T030000Z,20261201T030000Z,20261208T030000Z,20261215T030000Z,20261222T030000Z,20261229T030000Z,20270105T030000Z,20270112T030000Z,20270119T030000Z,20270126T030000Z,20270202T030000Z,20270209T030000Z,20270216T030000Z,20270223T030000Z,20270302T030000Z,20270309T030000Z,20270316T020000Z,20270323T020000Z,20270330T020000Z
UID:318BF809-3E56-47F4-BE7C-A0BE764A8F23
SUMMARY:Planning Board Meeting
CREATED:20250506T183439Z
DTSTAMP:20250506T183439Z
URL:https://daniel.govsites.net/resident/calendar/planning-board-meeting
DESCRIPTION:  05-06-2025 Planning Board Meeting Agenda\N[ text for meeting information ]
X-ALT-DESC;FMTTYPE=text/html:<p>&nbsp; <a class="doclink-insert" href="index.php?option=com_docman&amp;view=document&amp;alias=26-05-06-2025-planning-board-meeting-agenda&amp;category_slug=2025-agendas-planning-board&amp;Itemid=1999" target="_blank">05-06-2025 Planning Board Meeting Agenda</a></p><p>[ text for meeting information ]</p>
LAST-MODIFIED:20250506T183720Z
SEQUENCE:161
X-ACCESS:1
X-HITS:1
X-COLOR:3264d1
X-SHOW-END-TIME:0
END:VEVENT
BEGIN:VEVENT
DTSTART;TZID=America/New_York:20250507T080000
DTEND;TZID=America/New_York:20250507T100000
UID:C4C29F21-C803-40FC-BB13-8618775C807B
SUMMARY:Board of Public Works Meeting
CREATED:20250508T171843Z
DTSTAMP:20250508T171843Z
URL:https://daniel.govsites.net/resident/calendar/board-of-public-works-meeting
DESCRIPTION:Join from PC, Mac, iPad, or Android:\Nhttps://us06web.zoom.us/j/82306195952?pwd=E2IpXw9fd7jabSZR4aNlAvWeENxbiA.1\NPasscode:413719\NPhone one-tap:\N+16469313860,,82306195952#,,,,*413719# US\N+19292056099,,82306195952#,,,,*413719# US (New York)\NJoin via audio:\N+1 646 931 3860 US\N+1 929 205 6099 US (New York)\N+1 301 715 8592 US (Washington DC)\N+1 305 224 1968 US\N+1 309 205 3325 US\N+1 312 626 6799 US (Chicago)\N+1 689 278 1000 US\N+1 719 359 4580 US\N+1 253 205 0468 US\N+1 253 215 8782 US (Tacoma)\N+1 346 248 7799 US (Houston)\N+1 360 209 5623 US\N+1 386 347 5053 US\N+1 507 473 4847 US\N+1 564 217 2000 US\N+1 669 444 9171 US\N+1 669 900 6833 US (San Jose)\NWebinar ID: 823 0619 5952\NPasscode: 413719\NInternational numbers available: https://us06web.zoom.us/u/kdc38k2PLW
X-ALT-DESC;FMTTYPE=text/html:<p>Join from PC, Mac, iPad, or Android:</p><p><a href="https://us06web.zoom.us/j/82306195952?pwd=E2IpXw9fd7jabSZR4aNlAvWeENxbiA.1" heap-ignore="true"></a><a href="https://us06web.zoom.us/j/82306195952?pwd=E2IpXw9fd7jabSZR4aNlAvWeENxbiA.1">https://us06web.zoom.us/j/82306195952?pwd=E2IpXw9fd7jabSZR4aNlAvWeENxbiA.1</a></p><p>Passcode:413719</p><p>Phone one-tap:</p><p>+16469313860,,82306195952#,,,,*413719# US</p><p>+19292056099,,82306195952#,,,,*413719# US (New York)</p><p>Join via audio:</p><p>+1 646 931 3860 US</p><p>+1 929 205 6099 US (New York)</p><p>+1 301 715 8592 US (Washington DC)</p><p>+1 305 224 1968 US</p><p>+1 309 205 3325 US</p><p>+1 312 626 6799 US (Chicago)</p><p>+1 689 278 1000 US</p><p>+1 719 359 4580 US</p><p>+1 253 205 0468 US</p><p>+1 253 215 8782 US (Tacoma)</p><p>+1 346 248 7799 US (Houston)</p><p>+1 360 209 5623 US</p><p>+1 386 347 5053 US</p><p>+1 507 473 4847 US</p><p>+1 564 217 2000 US</p><p>+1 669 444 9171 US</p><p>+1 669 900 6833 US (San Jose)</p><p>Webinar ID: 823 0619 5952</p><p>Passcode: 413719</p><p>International numbers available:&nbsp;<a href="https://us06web.zoom.us/u/kdc38k2PLW" heap-ignore="true"></a><a href="https://us06web.zoom.us/u/kdc38k2PLW">https://us06web.zoom.us/u/kdc38k2PLW</a></p>
LAST-MODIFIED:20250508T171843Z
SEQUENCE:0
X-ACCESS:1
X-HITS:3
X-COLOR:3366CC
X-SHOW-END-TIME:0
END:VEVENT
END:VCALENDAR