BEGIN:VCALENDAR
VERSION:2.0
PRODID:DPCALENDAR
CALSCALE:GREGORIAN
BEGIN:VTIMEZONE
TZID:America/New_York
X-MICROSOFT-CDO-TZID:10
BEGIN:STANDARD
DTSTART:20251102T060000
TZOFFSETFROM:-0400
TZOFFSETTO:-0500
TZNAME:EST
END:STANDARD
BEGIN:STANDARD
DTSTART:20261101T060000
TZOFFSETFROM:-0400
TZOFFSETTO:-0500
TZNAME:EST
END:STANDARD
BEGIN:DAYLIGHT
DTSTART:20260308T070000
TZOFFSETFROM:-0500
TZOFFSETTO:-0400
TZNAME:EDT
END:DAYLIGHT
END:VTIMEZONE
X-WR-TIMEZONE:America/New_York
BEGIN:VEVENT
DTSTART;TZID=America/New_York:20250507T080000
DTEND;TZID=America/New_York:20250507T100000
UID:C4C29F21-C803-40FC-BB13-8618775C807B
SUMMARY:Board of Public Works Meeting
CREATED:20250508T171843Z
DTSTAMP:20250508T171843Z
URL:https://daniel.govsites.net/resident/calendar/board-of-public-works-meeting
DESCRIPTION:Join from PC, Mac, iPad, or Android:\Nhttps://us06web.zoom.us/j/82306195952?pwd=E2IpXw9fd7jabSZR4aNlAvWeENxbiA.1\NPasscode:413719\NPhone one-tap:\N+16469313860,,82306195952#,,,,*413719# US\N+19292056099,,82306195952#,,,,*413719# US (New York)\NJoin via audio:\N+1 646 931 3860 US\N+1 929 205 6099 US (New York)\N+1 301 715 8592 US (Washington DC)\N+1 305 224 1968 US\N+1 309 205 3325 US\N+1 312 626 6799 US (Chicago)\N+1 689 278 1000 US\N+1 719 359 4580 US\N+1 253 205 0468 US\N+1 253 215 8782 US (Tacoma)\N+1 346 248 7799 US (Houston)\N+1 360 209 5623 US\N+1 386 347 5053 US\N+1 507 473 4847 US\N+1 564 217 2000 US\N+1 669 444 9171 US\N+1 669 900 6833 US (San Jose)\NWebinar ID: 823 0619 5952\NPasscode: 413719\NInternational numbers available: https://us06web.zoom.us/u/kdc38k2PLW
X-ALT-DESC;FMTTYPE=text/html:<p>Join from PC, Mac, iPad, or Android:</p><p><a href="https://us06web.zoom.us/j/82306195952?pwd=E2IpXw9fd7jabSZR4aNlAvWeENxbiA.1" heap-ignore="true"></a><a href="https://us06web.zoom.us/j/82306195952?pwd=E2IpXw9fd7jabSZR4aNlAvWeENxbiA.1">https://us06web.zoom.us/j/82306195952?pwd=E2IpXw9fd7jabSZR4aNlAvWeENxbiA.1</a></p><p>Passcode:413719</p><p>Phone one-tap:</p><p>+16469313860,,82306195952#,,,,*413719# US</p><p>+19292056099,,82306195952#,,,,*413719# US (New York)</p><p>Join via audio:</p><p>+1 646 931 3860 US</p><p>+1 929 205 6099 US (New York)</p><p>+1 301 715 8592 US (Washington DC)</p><p>+1 305 224 1968 US</p><p>+1 309 205 3325 US</p><p>+1 312 626 6799 US (Chicago)</p><p>+1 689 278 1000 US</p><p>+1 719 359 4580 US</p><p>+1 253 205 0468 US</p><p>+1 253 215 8782 US (Tacoma)</p><p>+1 346 248 7799 US (Houston)</p><p>+1 360 209 5623 US</p><p>+1 386 347 5053 US</p><p>+1 507 473 4847 US</p><p>+1 564 217 2000 US</p><p>+1 669 444 9171 US</p><p>+1 669 900 6833 US (San Jose)</p><p>Webinar ID: 823 0619 5952</p><p>Passcode: 413719</p><p>International numbers available:&nbsp;<a href="https://us06web.zoom.us/u/kdc38k2PLW" heap-ignore="true"></a><a href="https://us06web.zoom.us/u/kdc38k2PLW">https://us06web.zoom.us/u/kdc38k2PLW</a></p>
LAST-MODIFIED:20250508T171843Z
SEQUENCE:0
X-ACCESS:1
X-HITS:3
X-COLOR:3366CC
X-SHOW-END-TIME:0
END:VEVENT
END:VCALENDAR